BEGIN:VCALENDAR
VERSION:2.0
PRODID:-//eventon.com NONSGML v1.0//EN
CALSCALE:GREGORIAN
METHOD:PUBLISH
BEGIN:VEVENT
UID:69eb7c85095b5
DTSTAMP:20260424T142157Z
DTSTART:20260512T170000Z
DTEND:20260512T174500Z
LOCATION:
SUMMARY:ENDLICH-WIEDER-HÖREN-TALK: Wie die Hörakustik unseren CI-Weg begleitet – im Gespräch mit einem CI-Akustiker
DESCRIPTION:Wann reicht ein Hörgerät nicht mehr aus? Und welche Schritte 
 führen eigentlich zu einem Cochlea-Implantat (CI)? In unserem kommenden EW
 H-Talk sprechen wir mit einem erfahrenen Hörakustiker mit CI-Zusatzausbild
 ung darüber\,  wie Betroffene auf ihrem Weg begleitet werden – von der l
 angjährigen Hörgeräteversorgung bis hin zur möglichen CI-Entscheidung u
 nd darüber hinaus. Dabei[..]\nhttps://www.endlich-wieder-hoeren.org/events
 /endlich-wieder-hoeren-talk-wie-die-hoerakustik-unseren-ci-weg-begleitet-im
 -gespraech-mit-einem-ci-akustiker/
URL:https://www.endlich-wieder-hoeren.org/events/endlich-wieder-hoeren-talk-wie-die-hoerakustik-unseren-ci-weg-begleitet-im-gespraech-mit-einem-ci-akustiker/
END:VEVENT
END:VCALENDAR